BEGIN:VCALENDAR
VERSION:2.0
PRODID:-//Feuerwehr Webseite - ECPv4.7.3//NONSGML v1.0//EN
CALSCALE:GREGORIAN
METHOD:PUBLISH
X-WR-CALNAME:Feuerwehr Webseite
X-ORIGINAL-URL:http://feuerwehr-muehlingen.de
X-WR-CALDESC:Veranstaltungen für Feuerwehr Webseite
BEGIN:VEVENT
DTSTART;TZID=Europe/Berlin:20190519T093000
DTEND;TZID=Europe/Berlin:20190519T160000
DTSTAMP:20260425T015356
CREATED:20190402T054711Z
LAST-MODIFIED:20190506T104959Z
UID:629-1558258200-1558281600@feuerwehr-muehlingen.de
SUMMARY:Fahrzeugweihe MTW
DESCRIPTION:Fahrzeugweihe des MTWs an der Schloßbühlhalle am 29. Mai 2019 \n       09:30 &#8211; Gottesdienst in der St. Martinskirche in Mühlingen \nCa. ab 10:30 &#8211; Fahrzeugweihe durch den Pfarrer an der Schloßbühhalle \nCa. ab 11:00 &#8211; Mittagessen in der Schloßbühalle. Anschließend gemütlicher Ausklang mit Kaffee & Kuchen \nMusikalische Unterhaltung durch den Musikverein Liggersdorf e.V. \n
URL:http://feuerwehr-muehlingen.de/termin/fahrzeugweihe-mtw/
LOCATION:Schloßbühlhalle Mühlingen
ATTACH;FMTTYPE=image/png:http://feuerwehr-muehlingen.de/wp-content/uploads/2019/04/MTW-e1556110443674.png
END:VEVENT
END:VCALENDAR