BEGIN:VCALENDAR
VERSION:2.0
PRODID:-//Feuerwehr Webseite - ECPv4.7.3//NONSGML v1.0//EN
CALSCALE:GREGORIAN
METHOD:PUBLISH
X-WR-CALNAME:Feuerwehr Webseite
X-ORIGINAL-URL:http://feuerwehr-muehlingen.de
X-WR-CALDESC:Veranstaltungen für Feuerwehr Webseite
BEGIN:VEVENT
DTSTART;VALUE=DATE:20190606
DTEND;VALUE=DATE:20190609
DTSTAMP:20260425T003046
CREATED:20190105T163038Z
LAST-MODIFIED:20190105T163038Z
UID:328-1559779200-1560038399@feuerwehr-muehlingen.de
SUMMARY:Schloßbühlfest
DESCRIPTION:Schloßbühlfest Mühlingen \n
URL:http://feuerwehr-muehlingen.de/termin/schlossbuehlfest/
END:VEVENT
END:VCALENDAR