BEGIN:VCALENDAR
VERSION:2.0
PRODID:-//Feuerwehr Webseite - ECPv4.7.3//NONSGML v1.0//EN
CALSCALE:GREGORIAN
METHOD:PUBLISH
X-WR-CALNAME:Feuerwehr Webseite
X-ORIGINAL-URL:http://feuerwehr-muehlingen.de
X-WR-CALDESC:Veranstaltungen für Feuerwehr Webseite
BEGIN:VEVENT
DTSTART;VALUE=DATE:20191006
DTEND;VALUE=DATE:20191008
DTSTAMP:20260424T190700
CREATED:20190105T164231Z
LAST-MODIFIED:20190105T164231Z
UID:352-1570320000-1570492799@feuerwehr-muehlingen.de
SUMMARY:Erntedankfest Hecheln
DESCRIPTION:Erntedankfest in Hecheln \n
URL:http://feuerwehr-muehlingen.de/termin/erntedankfest-hecheln/
END:VEVENT
END:VCALENDAR