BEGIN:VCALENDAR
VERSION:2.0
PRODID:-//Feuerwehr Webseite - ECPv4.7.3//NONSGML v1.0//EN
CALSCALE:GREGORIAN
METHOD:PUBLISH
X-WR-CALNAME:Feuerwehr Webseite
X-ORIGINAL-URL:http://feuerwehr-muehlingen.de
X-WR-CALDESC:Veranstaltungen für Feuerwehr Webseite
BEGIN:VEVENT
DTSTART;VALUE=DATE:20191117
DTEND;VALUE=DATE:20191118
DTSTAMP:20260424T174843
CREATED:20190105T164708Z
LAST-MODIFIED:20190105T164708Z
UID:360-1573948800-1574035199@feuerwehr-muehlingen.de
SUMMARY:Volkstrauertag
DESCRIPTION:Volkstrauertag\nKleidung: Uniform \n
URL:http://feuerwehr-muehlingen.de/termin/volkstrauertag/
END:VEVENT
END:VCALENDAR